BEGIN:VCALENDAR
VERSION:2.0
PRODID:SchoolNow
CALSCALE:GREGORIAN
BEGIN:VEVENT
UID:605449fc-fb6d-11ea-b46f-12a07e44da85
DTSTAMP:20200920T181617Z
SUMMARY:Walking\, Toning\, and Strengthening Class
URL;VALUE=URI:https://www.wildernesslakecdd.org/calendar/2370282/walking-to
 ning-and-strengthening-class
DTSTART:20200925T133000Z
DTEND:20200925T144500Z
END:VEVENT
END:VCALENDAR
