BEGIN:VCALENDAR
VERSION:2.0
PRODID:SchoolNow
CALSCALE:GREGORIAN
BEGIN:VEVENT
UID:3f57730a-fb6d-11ea-b762-12a07e44da85
DTSTAMP:20200920T181522Z
SUMMARY:Walking\, Toning\, and Strengthening Class
URL;VALUE=URI:https://www.wildernesslakecdd.org/calendar/2370281/walking-to
 ning-and-strengthening-class
DTSTART:20200923T133000Z
DTEND:20200923T144500Z
END:VEVENT
END:VCALENDAR
