BEGIN:VCALENDAR
VERSION:2.0
PRODID:SchoolNow
CALSCALE:GREGORIAN
BEGIN:VEVENT
UID:1e7b4242-fb6d-11ea-80e3-12a07e44da85
DTSTAMP:20200920T181426Z
SUMMARY:Walking\, Toning and Strengthening Class
URL;VALUE=URI:https://www.wildernesslakecdd.org/calendar/2370280/walking-to
 ning-and-strengthening-class
DTSTART:20200921T133000Z
DTEND:20200921T144500Z
END:VEVENT
END:VCALENDAR
