BEGIN:VCALENDAR
VERSION:2.0
PRODID:SchoolNow
CALSCALE:GREGORIAN
BEGIN:VEVENT
UID:e779ec6c-fb6c-11ea-8e6a-12a07e44da85
DTSTAMP:20200920T181254Z
SUMMARY:Water Aerobics
URL;VALUE=URI:https://www.wildernesslakecdd.org/calendar/2370279/water-aero
 bics
DTSTART:20200925T133000Z
DTEND:20200925T143000Z
END:VEVENT
END:VCALENDAR
