BEGIN:VCALENDAR
VERSION:2.0
PRODID:SchoolNow
CALSCALE:GREGORIAN
BEGIN:VEVENT
UID:cf7d0acc-fb6c-11ea-9d43-12a07e44da85
DTSTAMP:20200920T181214Z
SUMMARY:Water Aerobics
URL;VALUE=URI:https://www.wildernesslakecdd.org/calendar/2370278/water-aero
 bics
DTSTART:20200924T133000Z
DTEND:20200924T143000Z
END:VEVENT
END:VCALENDAR
