BEGIN:VCALENDAR
VERSION:2.0
PRODID:SchoolNow
CALSCALE:GREGORIAN
BEGIN:VEVENT
UID:b6345e4e-fb6c-11ea-9e30-12a07e44da85
DTSTAMP:20200920T181132Z
SUMMARY:Water Aerobics
URL;VALUE=URI:https://www.wildernesslakecdd.org/calendar/2370277/water-aero
 bics
DTSTART:20200923T133000Z
DTEND:20200923T143000Z
END:VEVENT
END:VCALENDAR
