BEGIN:VCALENDAR
VERSION:2.0
PRODID:SchoolNow
CALSCALE:GREGORIAN
BEGIN:VEVENT
UID:9abda238-fb6c-11ea-afdc-12a07e44da85
DTSTAMP:20200920T181045Z
SUMMARY:Water Aerobics
URL;VALUE=URI:https://www.wildernesslakecdd.org/calendar/2370276/water-aero
 bics
DTSTART:20200922T133000Z
DTEND:20200922T143000Z
END:VEVENT
END:VCALENDAR
