BEGIN:VCALENDAR
VERSION:2.0
PRODID:SchoolNow
CALSCALE:GREGORIAN
BEGIN:VEVENT
UID:75dcfa4a-fb6c-11ea-8ec6-12a07e44da85
DTSTAMP:20200920T180944Z
SUMMARY:Water Aerobics
URL;VALUE=URI:https://www.wildernesslakecdd.org/calendar/2370275/water-aero
 bics
DTSTART:20200921T133000Z
DTEND:20200921T143000Z
END:VEVENT
END:VCALENDAR
