BEGIN:VCALENDAR
VERSION:2.0
PRODID:SchoolNow
CALSCALE:GREGORIAN
BEGIN:VEVENT
UID:2426a530-f61b-11ea-a492-0a0028c5b8ad
DTSTAMP:20200913T234501Z
SUMMARY:Yoga
URL;VALUE=URI:https://www.wildernesslakecdd.org/calendar/2352743/yoga
DTSTART:20200917T121500Z
DTEND:20200917T134500Z
END:VEVENT
END:VCALENDAR
