BEGIN:VCALENDAR
VERSION:2.0
PRODID:SchoolNow
CALSCALE:GREGORIAN
BEGIN:VEVENT
UID:ef8dcf1a-f61a-11ea-b59e-0a0028c5b8ad
DTSTAMP:20200913T234333Z
SUMMARY:Yoga
URL;VALUE=URI:https://www.wildernesslakecdd.org/calendar/2352742/yoga
DTSTART:20200915T124500Z
DTEND:20200915T141500Z
END:VEVENT
END:VCALENDAR
