BEGIN:VCALENDAR
VERSION:2.0
PRODID:SchoolNow
CALSCALE:GREGORIAN
BEGIN:VEVENT
UID:7ad60214-f61a-11ea-896b-0a0028c5b8ad
DTSTAMP:20200913T234115Z
SUMMARY:Boot Camp
URL;VALUE=URI:https://www.wildernesslakecdd.org/calendar/2352740/boot-camp
DTSTART:20200917T130000Z
DTEND:20200917T140000Z
END:VEVENT
END:VCALENDAR
