BEGIN:VCALENDAR
VERSION:2.0
PRODID:SchoolNow
CALSCALE:GREGORIAN
BEGIN:VEVENT
UID:cbb00f6e-f619-11ea-bfda-0a0028c5b8ad
DTSTAMP:20200913T233524Z
SUMMARY:Water Aerobics
URL;VALUE=URI:https://www.wildernesslakecdd.org/calendar/2352738/water-aero
 bics
DTSTART:20200918T133000Z
DTEND:20200918T143000Z
END:VEVENT
END:VCALENDAR
