BEGIN:VCALENDAR
VERSION:2.0
PRODID:SchoolNow
CALSCALE:GREGORIAN
BEGIN:VEVENT
UID:b40f57de-f619-11ea-b0e3-0a0028c5b8ad
DTSTAMP:20200913T233444Z
SUMMARY:Water Aerobics
URL;VALUE=URI:https://www.wildernesslakecdd.org/calendar/2352737/water-aero
 bics
DTSTART:20200917T133000Z
DTEND:20200917T143000Z
END:VEVENT
END:VCALENDAR
