BEGIN:VCALENDAR
VERSION:2.0
PRODID:SchoolNow
CALSCALE:GREGORIAN
BEGIN:VEVENT
UID:9d0305ea-f619-11ea-bbf2-0a0028c5b8ad
DTSTAMP:20200913T233405Z
SUMMARY:Water Aerobics
URL;VALUE=URI:https://www.wildernesslakecdd.org/calendar/2352736/water-aero
 bics
DTSTART:20200916T133000Z
DTEND:20200916T143000Z
END:VEVENT
END:VCALENDAR
