BEGIN:VCALENDAR
VERSION:2.0
PRODID:SchoolNow
CALSCALE:GREGORIAN
BEGIN:VEVENT
UID:84ed4312-f619-11ea-bcea-0a0028c5b8ad
DTSTAMP:20200913T233325Z
SUMMARY:Water Aerobics
URL;VALUE=URI:https://www.wildernesslakecdd.org/calendar/2352735/water-aero
 bics
DTSTART:20200915T133000Z
DTEND:20200915T143000Z
END:VEVENT
END:VCALENDAR
