BEGIN:VCALENDAR
VERSION:2.0
PRODID:SchoolNow
CALSCALE:GREGORIAN
BEGIN:VEVENT
UID:69cc7774-f619-11ea-8342-0a0028c5b8ad
DTSTAMP:20200913T233239Z
SUMMARY:Water Aerobics
URL;VALUE=URI:https://www.wildernesslakecdd.org/calendar/2352734/water-aero
 bics
DTSTART:20200914T133000Z
DTEND:20200914T143000Z
END:VEVENT
END:VCALENDAR
