BEGIN:VCALENDAR
VERSION:2.0
PRODID:SchoolNow
CALSCALE:GREGORIAN
BEGIN:VEVENT
UID:298ba464-f619-11ea-b4bd-0a0028c5b8ad
DTSTAMP:20200913T233051Z
SUMMARY:Walking\, Toning\, and Strength Class
URL;VALUE=URI:https://www.wildernesslakecdd.org/calendar/2352733/walking-to
 ning-and-strength-class
DTSTART:20200918T133000Z
DTEND:20200918T144500Z
END:VEVENT
END:VCALENDAR
