BEGIN:VCALENDAR
VERSION:2.0
PRODID:SchoolNow
CALSCALE:GREGORIAN
BEGIN:VEVENT
UID:fe774a4e-f618-11ea-8b73-0a0028c5b8ad
DTSTAMP:20200913T232939Z
SUMMARY:Walking\, Toning\, and Strength Class
URL;VALUE=URI:https://www.wildernesslakecdd.org/calendar/2352731/walking-to
 ning-and-strength-class
DTSTART:20200916T133000Z
DTEND:20200916T144500Z
END:VEVENT
END:VCALENDAR
