BEGIN:VCALENDAR
VERSION:2.0
PRODID:SchoolNow
CALSCALE:GREGORIAN
BEGIN:VEVENT
UID:d4164746-f618-11ea-9b4d-0a0028c5b8ad
DTSTAMP:20200913T232828Z
SUMMARY:Walking\, Toning\, and Strength Class
URL;VALUE=URI:https://www.wildernesslakecdd.org/calendar/2352730/walking-to
 ning-and-strength-class
DTSTART:20200914T133000Z
DTEND:20200914T144500Z
END:VEVENT
END:VCALENDAR
