BEGIN:VCALENDAR
VERSION:2.0
PRODID:SchoolNow
CALSCALE:GREGORIAN
BEGIN:VEVENT
UID:c26a81f8-efb8-11ea-acb3-0a785ff01a9f
DTSTAMP:20200905T204540Z
SUMMARY:Adult Art Class
URL;VALUE=URI:https://www.wildernesslakecdd.org/calendar/2337469/adult-art-
 class
DTSTART:20200912T180000Z
DTEND:20200912T200000Z
END:VEVENT
END:VCALENDAR
