BEGIN:VCALENDAR
VERSION:2.0
PRODID:SchoolNow
CALSCALE:GREGORIAN
BEGIN:VEVENT
UID:7fc2aaf6-efb8-11ea-b4be-0a785ff01a9f
DTSTAMP:20200905T204348Z
SUMMARY:Kid's Art Class
URL;VALUE=URI:https://www.wildernesslakecdd.org/calendar/2337468/kids-art-c
 lass
DTSTART:20200912T140000Z
DTEND:20200912T160000Z
END:VEVENT
END:VCALENDAR
