BEGIN:VCALENDAR
VERSION:2.0
PRODID:SchoolNow
CALSCALE:GREGORIAN
BEGIN:VEVENT
UID:2936ee54-efb8-11ea-bcaa-0a785ff01a9f
DTSTAMP:20200905T204123Z
SUMMARY:Walking Toning\, and Strength Class
URL;VALUE=URI:https://www.wildernesslakecdd.org/calendar/2337467/walking-to
 ning-and-strength-class
DTSTART:20200911T133000Z
DTEND:20200911T144500Z
END:VEVENT
END:VCALENDAR
