BEGIN:VCALENDAR
VERSION:2.0
PRODID:SchoolNow
CALSCALE:GREGORIAN
BEGIN:VEVENT
UID:e80d8208-efb7-11ea-a0f0-0a785ff01a9f
DTSTAMP:20200905T203933Z
SUMMARY:Water Aerobics
URL;VALUE=URI:https://www.wildernesslakecdd.org/calendar/2337466/water-aero
 bics
DTSTART:20200911T133000Z
DTEND:20200911T143000Z
END:VEVENT
END:VCALENDAR
