BEGIN:VCALENDAR
VERSION:2.0
PRODID:SchoolNow
CALSCALE:GREGORIAN
BEGIN:VEVENT
UID:ab40c772-efb7-11ea-8847-0a785ff01a9f
DTSTAMP:20200905T203751Z
SUMMARY:Boot Camp
URL;VALUE=URI:https://www.wildernesslakecdd.org/calendar/2337465/boot-camp
DTSTART:20200910T130000Z
DTEND:20200910T140000Z
END:VEVENT
END:VCALENDAR
