BEGIN:VCALENDAR
VERSION:2.0
PRODID:SchoolNow
CALSCALE:GREGORIAN
BEGIN:VEVENT
UID:75550204-efb7-11ea-8e60-0a785ff01a9f
DTSTAMP:20200905T203621Z
SUMMARY:Yoga
URL;VALUE=URI:https://www.wildernesslakecdd.org/calendar/2337464/yoga
DTSTART:20200910T121500Z
DTEND:20200910T134500Z
END:VEVENT
END:VCALENDAR
