BEGIN:VCALENDAR
VERSION:2.0
PRODID:SchoolNow
CALSCALE:GREGORIAN
BEGIN:VEVENT
UID:243b4b12-efb7-11ea-9199-0a785ff01a9f
DTSTAMP:20200905T203405Z
SUMMARY:Water Aerobics
URL;VALUE=URI:https://www.wildernesslakecdd.org/calendar/2337463/water-aero
 bics
DTSTART:20200910T133000Z
DTEND:20200910T143000Z
END:VEVENT
END:VCALENDAR
