BEGIN:VCALENDAR
VERSION:2.0
PRODID:SchoolNow
CALSCALE:GREGORIAN
BEGIN:VEVENT
UID:f38e636e-efb6-11ea-a212-0a785ff01a9f
DTSTAMP:20200905T203243Z
SUMMARY:Walking\, Toning\, and Strength Class
URL;VALUE=URI:https://www.wildernesslakecdd.org/calendar/2337462/walking-to
 ning-and-strength-class
DTSTART:20200909T133000Z
DTEND:20200909T144500Z
END:VEVENT
END:VCALENDAR
