BEGIN:VCALENDAR
VERSION:2.0
PRODID:SchoolNow
CALSCALE:GREGORIAN
BEGIN:VEVENT
UID:aa747696-efb6-11ea-82ae-0a785ff01a9f
DTSTAMP:20200905T203041Z
SUMMARY:Water Aerobics
URL;VALUE=URI:https://www.wildernesslakecdd.org/calendar/2337461/water-aero
 bics
DTSTART:20200909T133000Z
DTEND:20200909T143000Z
END:VEVENT
END:VCALENDAR
