BEGIN:VCALENDAR
VERSION:2.0
PRODID:SchoolNow
CALSCALE:GREGORIAN
BEGIN:VEVENT
UID:73afbbca-efb6-11ea-b6e8-0a785ff01a9f
DTSTAMP:20200905T202909Z
SUMMARY:Water Aerobics
URL;VALUE=URI:https://www.wildernesslakecdd.org/calendar/2337460/water-aero
 bics
DTSTART:20200908T133000Z
DTEND:20200908T143000Z
END:VEVENT
END:VCALENDAR
