BEGIN:VCALENDAR
VERSION:2.0
PRODID:SchoolNow
CALSCALE:GREGORIAN
BEGIN:VEVENT
UID:bd541f1a-efb5-11ea-b0dd-0a785ff01a9f
DTSTAMP:20200905T202403Z
SUMMARY:Boot Camp
URL;VALUE=URI:https://www.wildernesslakecdd.org/calendar/2337458/boot-camp
DTSTART:20200908T133000Z
DTEND:20200908T143000Z
END:VEVENT
END:VCALENDAR
