BEGIN:VCALENDAR
VERSION:2.0
PRODID:SchoolNow
CALSCALE:GREGORIAN
BEGIN:VEVENT
UID:83a3ba64-efb5-11ea-9e46-0a785ff01a9f
DTSTAMP:20200905T202755Z
SUMMARY:Yoga
URL;VALUE=URI:https://www.wildernesslakecdd.org/calendar/2337457/yoga
DTSTART:20200908T124500Z
DTEND:20200908T141000Z
END:VEVENT
END:VCALENDAR
