BEGIN:VCALENDAR
VERSION:2.0
PRODID:SchoolNow
CALSCALE:GREGORIAN
BEGIN:VEVENT
UID:f0b21d46-efb3-11ea-abed-0a4e7c4ca1c5
DTSTAMP:20200905T202724Z
SUMMARY:Water Aerobics
URL;VALUE=URI:https://www.wildernesslakecdd.org/calendar/2337456/water-aero
 bics
DTSTART:20200907T133000Z
DTEND:20200907T143000Z
END:VEVENT
END:VCALENDAR
