BEGIN:VCALENDAR
VERSION:2.0
PRODID:SchoolNow
CALSCALE:GREGORIAN
BEGIN:VEVENT
UID:4aed9138-e53b-11ea-a339-0a3e715dd519
DTSTAMP:20200823T122221Z
SUMMARY:Boot Camp
URL;VALUE=URI:https://www.wildernesslakecdd.org/calendar/2315530/boot-camp
DTSTART:20200827T130000Z
DTEND:20200827T140000Z
END:VEVENT
END:VCALENDAR
