BEGIN:VCALENDAR
VERSION:2.0
PRODID:SchoolNow
CALSCALE:GREGORIAN
BEGIN:VEVENT
UID:e640dcfe-e53a-11ea-a1a1-0a3e715dd519
DTSTAMP:20200823T122010Z
SUMMARY:Boot Camp
LOCATION:Basketball Court
URL;VALUE=URI:https://www.wildernesslakecdd.org/calendar/2315529/boot-camp
DTSTART:20200825T130000Z
DTEND:20200825T140000Z
END:VEVENT
END:VCALENDAR
