BEGIN:VCALENDAR
VERSION:2.0
PRODID:SchoolNow
CALSCALE:GREGORIAN
BEGIN:VEVENT
UID:6359ce7c-e53a-11ea-948a-129939dcf193
DTSTAMP:20200823T121552Z
SUMMARY:Yoga
URL;VALUE=URI:https://www.wildernesslakecdd.org/calendar/2315525/yoga
DTSTART:20200827T121500Z
DTEND:20200827T134500Z
END:VEVENT
END:VCALENDAR
