BEGIN:VCALENDAR
VERSION:2.0
PRODID:SchoolNow
CALSCALE:GREGORIAN
BEGIN:VEVENT
UID:eb79495a-e539-11ea-9654-129939dcf193
DTSTAMP:20200823T121231Z
SUMMARY:Yoga
LOCATION:Activities Center
URL;VALUE=URI:https://www.wildernesslakecdd.org/calendar/2315524/yoga
DTSTART:20200825T124500Z
DTEND:20200825T140000Z
END:VEVENT
END:VCALENDAR
