BEGIN:VCALENDAR
VERSION:2.0
PRODID:SchoolNow
CALSCALE:GREGORIAN
BEGIN:VEVENT
UID:322c8d22-d8b9-11ea-a7aa-126a5d92d9a9
DTSTAMP:20210828T001946Z
SUMMARY:CDD Board Meeting - Sept. 2021
LOCATION:21320 Wilderness Lake Blvd. Land O' Lakes\, FL 34637 Call-in #: (8
 13) 658-6070 Conference ID: 165948
URL;VALUE=URI:https://www.wildernesslakecdd.org/calendar/2302103/cdd-board-
 meeting-sept-2021
DTSTART:20210901T133000Z
DTEND:20210901T170000Z
ATTACH;FILENAME=2021-09-01 - Preserve at Wilderness Lake - Final Agenda.pdf
 ;FMTTYPE=application/pdf:https://campussuite-storage.s3.amazonaws.com/prod
 /1558874/21caec5e-ea98-11e9-8581-0a20d2c7fac4/2307530/129a6cde-0795-11ec-a
 c75-0e8fba9e6671/file/2021-09-01 - Preserve at Wilderness Lake - Final Age
 nda.pdf
END:VEVENT
END:VCALENDAR
