BEGIN:VCALENDAR
VERSION:2.0
PRODID:SchoolNow
CALSCALE:GREGORIAN
BEGIN:VEVENT
UID:1eabb836-d8b9-11ea-a646-126a5d92d9a9
DTSTAMP:20220505T130829Z
SUMMARY:CDD Board Meeting - Aug. 2021
LOCATION:Call-in #: (813) 658-6070 Conference ID: 165948
URL;VALUE=URI:https://www.wildernesslakecdd.org/calendar/2302101/cdd-board-
 meeting-aug-2021
DTSTART:20210804T133000Z
DTEND:20210804T170000Z
ATTACH;FILENAME=2021-08-04 - Preserve @ Wilderness Lake - Revised Final Age
 nda.pdf;FMTTYPE=application/pdf:https://campussuite-storage.s3.amazonaws.c
 om/prod/1558874/21caec5e-ea98-11e9-8581-0a20d2c7fac4/2296898/7e041b54-f16b
 -11eb-913d-0a7cbf4e5989/file/2021-08-04 - Preserve @ Wilderness Lake - Rev
 ised Final Agenda.pdf
END:VEVENT
END:VCALENDAR
