BEGIN:VCALENDAR
VERSION:2.0
PRODID:SchoolNow
CALSCALE:GREGORIAN
BEGIN:VEVENT
UID:045fe588-d8b9-11ea-a853-126a5d92d9a9
DTSTAMP:20210706T182236Z
SUMMARY:CDD Board Meeting - July 2021 - Cancelled due to Tropical Storm Els
 a. Please refer back to the website for updates regarding the rescheduled 
 meeting date and time. Thank you.
LOCATION:21320 Wilderness Lake Blvd. Land O' Lakes\, FL 34637 Call-in #: (8
 13) 658-6070 Conference ID: 165948
URL;VALUE=URI:https://www.wildernesslakecdd.org/calendar/2302100/cdd-board-
 meeting-jul-2021
DTSTART:20210707T223000Z
DTEND:20210708T013000Z
ATTACH;FILENAME=2021-07-07- Preserve at Wilderness Lake - Final Agenda.pdf;
 FMTTYPE=application/pdf:https://campussuite-storage.s3.amazonaws.com/prod/
 1558874/21caec5e-ea98-11e9-8581-0a20d2c7fac4/2287072/27191452-d9ba-11eb-b4
 d4-0ea60301a341/file/2021-07-07- Preserve at Wilderness Lake - Final Agend
 a.pdf
END:VEVENT
END:VCALENDAR
