BEGIN:VCALENDAR
VERSION:2.0
PRODID:SchoolNow
CALSCALE:GREGORIAN
BEGIN:VEVENT
UID:f39126e0-d8b8-11ea-8726-126a5d92d9a9
DTSTAMP:20210528T154416Z
SUMMARY:CDD Board Meeting
LOCATION:Call-in #: (813) 658-6070 Guest Code: 165948
URL;VALUE=URI:https://www.wildernesslakecdd.org/calendar/2302099/cdd-board-
 meeting-jun-2021
DTSTART:20210602T133000Z
DTEND:20210602T170000Z
ATTACH;FILENAME=2021-06-02 - Preserve at Wilderness Lake - Revised Final Ag
 enda.pdf;FMTTYPE=application/pdf:https://campussuite-storage.s3.amazonaws.
 com/prod/1558874/21caec5e-ea98-11e9-8581-0a20d2c7fac4/2271379/10994304-bfc
 b-11eb-9cb5-0ef5bf6e4849/file/2021-06-02 - Preserve at Wilderness Lake - R
 evised Final Agenda.pdf
END:VEVENT
END:VCALENDAR
