BEGIN:VCALENDAR
VERSION:2.0
PRODID:SchoolNow
CALSCALE:GREGORIAN
BEGIN:VEVENT
UID:da91d54a-d8b8-11ea-8985-126a5d92d9a9
DTSTAMP:20210427T133456Z
SUMMARY:CDD Board Meeting - May 2021
LOCATION:Call-in #: (813) 658-6070 ~ Guest Code: 165948
URL;VALUE=URI:https://www.wildernesslakecdd.org/calendar/2302098/cdd-board-
 meeting-may-2021
DTSTART:20210505T223000Z
DTEND:20210506T020000Z
ATTACH;FILENAME=2021-05-05 - Preserve at Wilderness Lake - Final Agenda-1.p
 df;FMTTYPE=application/pdf:https://campussuite-storage.s3.amazonaws.com/pr
 od/1558874/21caec5e-ea98-11e9-8581-0a20d2c7fac4/2256575/22480706-a75d-11eb
 -8ccb-0232ef882529/file/2021-05-05 - Preserve at Wilderness Lake - Final A
 genda-1.pdf
END:VEVENT
END:VCALENDAR
