BEGIN:VCALENDAR
VERSION:2.0
PRODID:SchoolNow
CALSCALE:GREGORIAN
BEGIN:VEVENT
UID:b644bc98-d8b8-11ea-bb7d-126a5d92d9a9
DTSTAMP:20210401T135349Z
SUMMARY:CDD Board Meeting - April 2021
LOCATION:Activities Center ~ Call-in number: 813-658-6070 - Code: 165948
URL;VALUE=URI:https://www.wildernesslakecdd.org/calendar/2302097/cdd-board-
 meeting-apr-2021
DTSTART:20210407T133000Z
DTEND:20210407T170000Z
ATTACH;FILENAME=2021-04-07 - Preserve at Wilderness Lake - Final Agenda (1)
 .pdf;FMTTYPE=application/pdf:https://campussuite-storage.s3.amazonaws.com/
 prod/1558874/21caec5e-ea98-11e9-8581-0a20d2c7fac4/2247200/8d9086a8-92f1-11
 eb-84b4-0e3237fc6e4f/file/2021-04-07 - Preserve at Wilderness Lake - Final
  Agenda (1).pdf
END:VEVENT
END:VCALENDAR
