BEGIN:VCALENDAR
VERSION:2.0
PRODID:SchoolNow
CALSCALE:GREGORIAN
BEGIN:VEVENT
UID:a10d5f88-d8b8-11ea-a959-126a5d92d9a9
DTSTAMP:20210302T031029Z
SUMMARY:CDD Board Meeting - Mar. 2021
LOCATION:Activities Center - Call-in number: (813) 658-6070 Guest Code: 165
 948
URL;VALUE=URI:https://www.wildernesslakecdd.org/calendar/2302096/cdd-board-
 meeting-mar-2021
DTSTART:20210303T233000Z
DTEND:20210304T030000Z
ATTACH;FILENAME=2021-03-03 - Preserve at Wilderness Lake - Final Agenda.pdf
 ;FMTTYPE=application/pdf:https://campussuite-storage.s3.amazonaws.com/prod
 /1558874/21caec5e-ea98-11e9-8581-0a20d2c7fac4/2230152/4e8a9636-75e3-11eb-a
 a3e-0a0f9b785dad/file/2021-03-03 - Preserve at Wilderness Lake - Final Age
 nda.pdf
END:VEVENT
END:VCALENDAR
