BEGIN:VCALENDAR
VERSION:2.0
PRODID:SchoolNow
CALSCALE:GREGORIAN
BEGIN:VEVENT
UID:79b60674-d8b8-11ea-ad2b-126a5d92d9a9
DTSTAMP:20210126T175919Z
SUMMARY:CDD Board Meeting - Feb. 2021
LOCATION:Meeting call-in number: 813-658-6070 ~ Guest Code: 165948
URL;VALUE=URI:https://www.wildernesslakecdd.org/calendar/2302095/cdd-board-
 meeting-feb-2021
DTSTART:20210203T233000Z
DTEND:20210204T030000Z
ATTACH;FILENAME=2021-02-03 - Preserve at Wilderness Lake - Final Agenda.pdf
 ;FMTTYPE=application/pdf:https://campussuite-storage.s3.amazonaws.com/prod
 /1558874/21caec5e-ea98-11e9-8581-0a20d2c7fac4/2219533/b66366ec-5fff-11eb-9
 dff-0e56a03daefd/file/2021-02-03 - Preserve at Wilderness Lake - Final Age
 nda.pdf
END:VEVENT
END:VCALENDAR
