BEGIN:VCALENDAR
VERSION:2.0
PRODID:SchoolNow
CALSCALE:GREGORIAN
BEGIN:VEVENT
UID:49053dc4-d8b8-11ea-931e-126a5d92d9a9
DTSTAMP:20201229T204944Z
SUMMARY:CDD Board Meeting - Jan. 2021
URL;VALUE=URI:https://www.wildernesslakecdd.org/calendar/2302094/cdd-board-
 meeting-jan-2021
DTSTART:20210106T233000Z
DTEND:20210107T030000Z
ATTACH;FILENAME=2021-01-06- Preserve at Wilderness Lake - Final Agenda2.pdf
 ;FMTTYPE=application/pdf:https://campussuite-storage.s3.amazonaws.com/prod
 /1558874/21caec5e-ea98-11e9-8581-0a20d2c7fac4/2207717/ea40c652-4a16-11eb-a
 c10-02c4231b06fd/file/2021-01-06- Preserve at Wilderness Lake - Final Agen
 da2.pdf
END:VEVENT
END:VCALENDAR
