BEGIN:VCALENDAR
VERSION:2.0
PRODID:SchoolNow
CALSCALE:GREGORIAN
BEGIN:VEVENT
UID:b7f53320-d8b7-11ea-871c-126a5d92d9a9
DTSTAMP:20201101T163201Z
SUMMARY:CDD Board Hybrid Meeting - Nov. 2020
LOCATION:The Preserve at Wilderness Lake 21320 Wilderness Lake Blvd. Land O
 ' Lakes\, FL 34637 - Call in #: 813-658-6070   Conference ID #: 165948
URL;VALUE=URI:https://www.wildernesslakecdd.org/calendar/2302092/cdd-baord-
 meeting-nov-2020
DTSTART:20201104T233000Z
DTEND:20201105T023000Z
ATTACH;FILENAME=2020-11-04- Preserve at Wilderness Lake - Full Final Agenda
 -1.pdf;FMTTYPE=application/pdf:https://campussuite-storage.s3.amazonaws.co
 m/prod/1558874/21caec5e-ea98-11e9-8581-0a20d2c7fac4/2176937/ff645280-1878-
 11eb-985d-124cbeaf508b/file/2020-11-04- Preserve at Wilderness Lake - Full
  Final Agenda-1.pdf
END:VEVENT
END:VCALENDAR
