BEGIN:VCALENDAR
VERSION:2.0
PRODID:SchoolNow
CALSCALE:GREGORIAN
BEGIN:VEVENT
UID:96198f0a-cf73-11ea-a360-12c813715e3b
DTSTAMP:20200726T190953Z
SUMMARY:Adult Art Class
LOCATION:Activities Center
URL;VALUE=URI:https://www.wildernesslakecdd.org/calendar/2291910/adult-art-
 class
DTSTART:20200801T180000Z
DTEND:20200801T200000Z
END:VEVENT
END:VCALENDAR
