BEGIN:VCALENDAR
VERSION:2.0
PRODID:SchoolNow
CALSCALE:GREGORIAN
BEGIN:VEVENT
UID:67d1f9a2-cf73-11ea-b700-12c813715e3b
DTSTAMP:20200726T190835Z
SUMMARY:Kid's Art Class
LOCATION:Activities Center
URL;VALUE=URI:https://www.wildernesslakecdd.org/calendar/2291909/kids-art-c
 lass
DTSTART:20200801T140000Z
DTEND:20200801T160000Z
END:VEVENT
END:VCALENDAR
