BEGIN:VCALENDAR
VERSION:2.0
PRODID:SchoolNow
CALSCALE:GREGORIAN
BEGIN:VEVENT
UID:f1964662-cf72-11ea-954c-12c813715e3b
DTSTAMP:20200726T190517Z
SUMMARY:Movie Matinee
LOCATION:Theater
URL;VALUE=URI:https://www.wildernesslakecdd.org/calendar/2291908/movie-mati
 nee
DTSTART:20200729T170000Z
DTEND:20200729T190000Z
END:VEVENT
END:VCALENDAR
