BEGIN:VCALENDAR
VERSION:2.0
PRODID:SchoolNow
CALSCALE:GREGORIAN
BEGIN:VEVENT
UID:6d73f140-cf72-11ea-9240-12c813715e3b
DTSTAMP:20200726T190135Z
SUMMARY:Boot Camp
LOCATION:Activities Center
URL;VALUE=URI:https://www.wildernesslakecdd.org/calendar/2291907/boot-camp
DTSTART:20200730T130000Z
DTEND:20200730T140000Z
END:VEVENT
END:VCALENDAR
